BEGIN:VCALENDAR
PRODID:-//github.com/rianjs/ical.net//NONSGML ical.net 4.0//EN
VERSION:2.0
BEGIN:VTIMEZONE
TZID:Eastern Standard Time
X-LIC-LOCATION:America/New_York
BEGIN:STANDARD
DTSTART:20241103T020000
RRULE:FREQ=YEARLY;BYDAY=1SU;BYMONTH=11
TZNAME:EST
TZOFFSETFROM:-0400
TZOFFSETTO:-0500
END:STANDARD
BEGIN:DAYLIGHT
DTSTART:20250309T020000
RRULE:FREQ=YEARLY;BYDAY=2SU;BYMONTH=3
TZNAME:EDT
TZOFFSETFROM:-0500
TZOFFSETTO:-0400
END:DAYLIGHT
END:VTIMEZONE
BEGIN:VEVENT
DESCRIPTION:On event day join us here - https://journalists-org.zoom.us/me
 eting/register/UZILEmr8SqOrO_FeQb43kg\n\nLet's take your reporting for a 
 walk!
DTEND;TZID=Eastern Standard Time:20260416T160000
DTSTAMP:20260421T114813Z
DTSTART;TZID=Eastern Standard Time:20260416T150000
LOCATION:https://journalists-org.zoom.us/meeting/register/UZILEmr8SqOrO_Fe
 Qb43kg
ORGANIZER;CN=;SENT-BY="mailto:":
SEQUENCE:0
SUMMARY:ONA: Develop a Walking Tour Pilot for Your Newsroom in 60 Minutes
UID:39fb6010-432b-4049-b626-93d660f5a133
END:VEVENT
END:VCALENDAR
